0.1
0
0
-0.1
660737.533757428
4750587.2073821
