0.1
0
0
-0.1
659049.828330839
4749969.25799499
