0.1
0
0
-0.1
662424.961199379
4751205.77984964
