0.1
0
0
-0.1
663289.286121261
4750647.67449945
