0.1
0
0
-0.1
662466.177458955
4749470.79246237
