0.1
0
0
-0.1
627342.481501947
4715751.49111352
