0.1
0
0
-0.1
629062.952114649
4715204.96259086
