0.1
0
0
-0.1
630794.625018946
4714080.30619306
