0.1
0
0
-0.1
630805.537307133
4713501.97182993
