0.1
0
0
-0.1
599365.111416354
4699096.94331677
