0.1
0
0
-0.1
598516.50878093
4698506.45205172
