0.1
0
0
-0.1
599381.633259625
4697940.35171432
