0.1
0
0
-0.1
598549.262308573
4696193.27193246
