0.1
0
0
-0.1
600263.560797826
4696217.66311047
