0.1
0
0
-0.1
600271.888941835
4695639.36955295
