0.1
0
0
-0.1
599431.178817681
4694470.58985441
