0.1
0
0
-0.1
598581.998167624
4693880.10919771
