0.1
0
0
-0.1
600296.868144477
4693904.50349317
