0.1
0
0
-0.1
599447.685908551
4693314.02092365
