0.1
0
0
-0.1
600305.195649216
4693326.21890926
