0.1
0
0
-0.1
601162.706388867
4693338.62739456
