0.1
0
0
-0.1
601171.105250241
4692760.34238871
