0.1
0
0
-0.1
600405.070121253
4686386.7521347
