0.1
0
0
-0.1
600413.389226057
4685808.46332982
