0.1
0
0
-0.1
599571.44006762
4684639.6964796
