0.1
0
0
-0.1
598721.034639141
4684049.21772043
