0.1
0
0
-0.1
601280.206733703
4685242.58024777
