0.1
0
0
-0.1
601313.734045311
4682929.43652977
