0.1
0
0
-0.1
606540.603778883
4733910.51546494
