0.1
0
0
-0.1
605714.727595693
4732162.43482572
