0.1
0
0
-0.1
608291.139145877
4731045.5702126
