0.1
0
0
-0.1
626540.427248688
4712844.24304407
