0.1
0
0
-0.1
627416.873837428
4711703.16108551
