0.1
0
0
-0.1
632526.872181436
4712956.27137051
