0.1
0
0
-0.1
632548.976408116
4711799.59924592
