0.1
0
0
-0.1
634259.685490757
4711832.44569294
