0.1
0
0
-0.1
626582.628437749
4710530.92062216
