0.1
0
0
-0.1
628282.914323092
4711140.62338608
