0.1
0
0
-0.1
629993.754747174
4711172.6308246
