0.1
0
0
-0.1
630849.178163969
4711188.63116775
