0.1
0
0
-0.1
629149.0993342
4710578.29859099
