0.1
0
0
-0.1
630881.906716083
4709453.63774375
