0.1
0
0
-0.1
633426.578942862
4710659.34685161
