0.1
0
0
-0.1
631726.566932394
4710048.17418698
