0.1
0
0
-0.1
632582.135000221
4710064.59098754
