0.1
0
0
-0.1
626614.276502791
4708795.93469161
