0.1
0
0
-0.1
627469.977426226
4708811.52064194
