0.1
0
0
-0.1
628336.369229941
4708248.982195
