0.1
0
0
-0.1
630903.711919438
4708296.97645036
