0.1
0
0
-0.1
632604.23556376
4708907.92113781
